BEGIN:VCALENDAR
VERSION:2.0
PRODID:-//Das Karateprinzip - ECPv5.16.1.1//NONSGML v1.0//EN
CALSCALE:GREGORIAN
METHOD:PUBLISH
X-ORIGINAL-URL:https://das-karateprinzip.de
X-WR-CALDESC:Events for Das Karateprinzip
REFRESH-INTERVAL;VALUE=DURATION:PT1H
X-Robots-Tag:noindex
X-PUBLISHED-TTL:PT1H
BEGIN:VTIMEZONE
TZID:Europe/Helsinki
BEGIN:DAYLIGHT
TZOFFSETFROM:+0200
TZOFFSETTO:+0300
TZNAME:EEST
DTSTART:20220327T010000
END:DAYLIGHT
BEGIN:STANDARD
TZOFFSETFROM:+0300
TZOFFSETTO:+0200
TZNAME:EET
DTSTART:20221030T010000
END:STANDARD
END:VTIMEZONE
BEGIN:VEVENT
DTSTART;TZID=Europe/Helsinki:20221019T193000
DTEND;TZID=Europe/Helsinki:20221019T210000
DTSTAMP:20260424T203537
CREATED:20220921T170204Z
LAST-MODIFIED:20220921T171052Z
UID:9342-1666207800-1666213200@das-karateprinzip.de
SUMMARY:Vortrag
DESCRIPTION:4 Tipps für mehr Gelassenheit und Souveränität im Beruf!\nMit der Philosophie und den Weisheiten des karate-do sein Berufsleben souverän meistern. \nWir leben unbestritten derzeit in einer zeit- und stressgeplagten Berufswelt! Die Frage ist jedoch\, was kann ich aktiv dagegen unternehmen\, um nicht in eine Stress- oder Erschöpfungsfalle zu geraten. Bei diesem Vortrag erhältst du 4 wertvolle und leicht umsetzbare Tipps\, mit denen es gelingen kann ein souveränes und gelassenes Berufsleben zu führen und dennoch effizienter zu sein als je zuvor.
URL:https://das-karateprinzip.de/event/vortrag/
LOCATION:VHS-Konstanz\, Katzgasse 7\, Konstanz\, 78462
END:VEVENT
END:VCALENDAR