BEGIN:VCALENDAR
VERSION:2.0
PRODID:-//Das Karateprinzip - ECPv5.16.1.1//NONSGML v1.0//EN
CALSCALE:GREGORIAN
METHOD:PUBLISH
X-WR-CALNAME:Das Karateprinzip
X-ORIGINAL-URL:https://das-karateprinzip.de
X-WR-CALDESC:Events for Das Karateprinzip
REFRESH-INTERVAL;VALUE=DURATION:PT1H
X-Robots-Tag:noindex
X-PUBLISHED-TTL:PT1H
BEGIN:VTIMEZONE
TZID:Europe/Helsinki
BEGIN:DAYLIGHT
TZOFFSETFROM:+0200
TZOFFSETTO:+0300
TZNAME:EEST
DTSTART:20220327T010000
END:DAYLIGHT
BEGIN:STANDARD
TZOFFSETFROM:+0300
TZOFFSETTO:+0200
TZNAME:EET
DTSTART:20221030T010000
END:STANDARD
END:VTIMEZONE
BEGIN:VEVENT
DTSTART;TZID=Europe/Helsinki:20221119T143000
DTEND;TZID=Europe/Helsinki:20221119T163000
DTSTAMP:20260424T184006
CREATED:20221103T165107Z
LAST-MODIFIED:20221103T170846Z
UID:9361-1668868200-1668875400@das-karateprinzip.de
SUMMARY:Gehbinar - Wandern & Coaching
DESCRIPTION:Dein Berufsalltag ist herausfordernd und deine Energiereserven sind nach einem langen Arbeitstag meist erschöpft? Das muss nicht sein\, wenn du ein paar Dinge im Arbeitsalltag beachtest und rechtzeitig deine mentale und körperliche Batterie wieder auflädst. Gerade in der Natur lässt sich schnell eine Regeneration erzielen.  \nHier kommt das neue Format vom Karateprinzip ins Spiel: Das Gehbinar! Dich erwartet eine gelungene und effiziente Mischung aus Wissenstranfer\, Bewegung und Erholung und das direkt bei einer kleinen Wanderung in der Natur. Zudem erhältst du praktische und leicht umsetzbare Tipps\, die du in deinen Arbeitsalltag integrieren kannst. Du wirst aufgetankt und gestärkt in deine neue Arbeitswoche starten und weißt\, wie du zukünftig energiegeladen durch deinen Berufsalltag kommst.  \nWo und wann?2 Termine stehen für dich zur Auswahl: Sa 19.11 oder So 20.11. / Start: 14.30 Uhr. Die Wanderung ist auf leichtem Niveau und startet in Konstanz/Dettingen (genauer Treffpunkt erhältst du nach der Anmeldung) und dauert ca. 2 Stunden. Die Teilnehmerzahl ist auf 10 Personen begrenzt um die Effizienz zu gewährleisten.  \nMelde dich daher bei Interesse gleich an auf: das–karateprinzip.de/kontakt/ Schreib in den Betreff „Gehbinar“ und deinen Wunschtermin.
URL:https://das-karateprinzip.de/event/gehbinar-wandern-coaching/
END:VEVENT
END:VCALENDAR